Package: convert Version: 1.78.0 Command: /home/biocbuild/R/R-4.3.1/bin/R CMD build --keep-empty-dirs --no-resave-data convert StartedAt: 2023-11-01 23:45:55 -0000 (Wed, 01 Nov 2023) EndedAt: 2023-11-01 23:46:02 -0000 (Wed, 01 Nov 2023) EllapsedTime: 7.0 seconds RetCode: 0 Status: OK PackageFile: convert_1.78.0.tar.gz PackageFileSize: 131.7 KiB