Package: consensusSeekeR Version: 1.30.0 Command: /home/biocbuild/R/R-4.3.1/bin/R CMD INSTALL consensusSeekeR StartedAt: 2023-11-01 20:24:14 -0000 (Wed, 01 Nov 2023) EndedAt: 2023-11-01 20:24:54 -0000 (Wed, 01 Nov 2023) EllapsedTime: 40.3 seconds RetCode: 0 Status: OK