Package: consensusOV Version: 1.24.0 Command: rm -rf consensusOV.buildbin-libdir && mkdir consensusOV.buildbin-libdir && F:\biocbuild\bbs-3.18-bioc\R\bin\R.exe CMD INSTALL --build --library=consensusOV.buildbin-libdir consensusOV_1.24.0.tar.gz StartedAt: 2024-04-16 06:51:02 -0400 (Tue, 16 Apr 2024) EndedAt: 2024-04-16 06:52:07 -0400 (Tue, 16 Apr 2024) EllapsedTime: 64.9 seconds RetCode: 0 Status: OK PackageFile: consensusOV_1.24.0.zip PackageFileSize: 4.487 MiB