Package: consensusOV Version: 1.24.0 Command: /home/biocbuild/bbs-3.18-bioc/R/bin/R CMD check --install=check:consensusOV.install-out.txt --library=/home/biocbuild/bbs-3.18-bioc/R/site-library --timings consensusOV_1.24.0.tar.gz StartedAt: 2024-04-15 21:31:44 -0400 (Mon, 15 Apr 2024) EndedAt: 2024-04-15 21:40:22 -0400 (Mon, 15 Apr 2024) EllapsedTime: 517.8 seconds RetCode: 0 Status: OK CheckDir: consensusOV.Rcheck Warnings: 0