Package: consensusDE Version: 1.20.0 Command: /home/biocbuild/R/R-4.3.1/bin/R CMD check --install=check:consensusDE.install-out.txt --library=/home/biocbuild/R/R-4.3.1/site-library --no-vignettes --timings consensusDE_1.20.0.tar.gz StartedAt: 2023-11-02 09:32:47 -0000 (Thu, 02 Nov 2023) EndedAt: 2023-11-02 09:40:10 -0000 (Thu, 02 Nov 2023) EllapsedTime: 443.4 seconds RetCode: 1 Status: ERROR CheckDir: consensusDE.Rcheck Warnings: NA