Package: consensus Version: 1.20.0 Command: rm -rf consensus.buildbin-libdir && mkdir consensus.buildbin-libdir && /Users/biocbuild/BBS/utils/build-universal.sh consensus_1.20.0.tar.gz /Library/Frameworks/R.framework/Resources/bin/R consensus.buildbin-libdir StartedAt: 2024-04-16 11:21:12 -0400 (Tue, 16 Apr 2024) EndedAt: 2024-04-16 11:21:20 -0400 (Tue, 16 Apr 2024) EllapsedTime: 8.3 seconds RetCode: 0 Status: OK PackageFile: consensus_1.20.0.tgz PackageFileSize: 1.095 MiB