Package: consICA Version: 2.0.0 Command: chmod a+r consICA -R && F:\biocbuild\bbs-3.18-bioc\R\bin\R.exe CMD build --keep-empty-dirs --no-resave-data consICA StartedAt: 2024-04-15 17:45:28 -0400 (Mon, 15 Apr 2024) EndedAt: 2024-04-15 17:46:53 -0400 (Mon, 15 Apr 2024) EllapsedTime: 85.0 seconds RetCode: 0 Status: OK PackageFile: consICA_2.0.0.tar.gz PackageFileSize: 3.206 MiB