Package: consICA Version: 2.0.0 Command: /Library/Frameworks/R.framework/Resources/bin/R CMD INSTALL consICA StartedAt: 2024-03-03 15:34:13 -0500 (Sun, 03 Mar 2024) EndedAt: 2024-03-03 15:35:00 -0500 (Sun, 03 Mar 2024) EllapsedTime: 46.5 seconds RetCode: 0 Status: OK