Package: compcodeR Version: 1.38.0 Command: /Library/Frameworks/R.framework/Resources/bin/R CMD build --keep-empty-dirs --no-resave-data compcodeR StartedAt: 2024-03-03 16:19:36 -0500 (Sun, 03 Mar 2024) EndedAt: 2024-03-03 16:20:04 -0500 (Sun, 03 Mar 2024) EllapsedTime: 28.2 seconds RetCode: 0 Status: OK PackageFile: compcodeR_1.38.0.tar.gz PackageFileSize: 4.734 MiB