Package: compartmap Version: 1.20.0 Command: /Library/Frameworks/R.framework/Resources/bin/R CMD check --install=check:compartmap.install-out.txt --library=/Library/Frameworks/R.framework/Resources/library --no-vignettes --timings compartmap_1.20.0.tar.gz StartedAt: 2024-03-03 19:47:09 -0500 (Sun, 03 Mar 2024) EndedAt: 2024-03-03 19:53:32 -0500 (Sun, 03 Mar 2024) EllapsedTime: 382.9 seconds RetCode: 0 Status: OK CheckDir: compartmap.Rcheck Warnings: 0