Package: compartmap Version: 1.20.0 Command: /Library/Frameworks/R.framework/Resources/bin/R CMD build --keep-empty-dirs --no-resave-data compartmap StartedAt: 2024-03-03 16:19:33 -0500 (Sun, 03 Mar 2024) EndedAt: 2024-03-03 16:21:48 -0500 (Sun, 03 Mar 2024) EllapsedTime: 135.1 seconds RetCode: 0 Status: OK PackageFile: compartmap_1.20.0.tar.gz PackageFileSize: 3.443 MiB