Package: compartmap Version: 1.20.0 Command: rm -rf compartmap.buildbin-libdir && mkdir compartmap.buildbin-libdir && /Users/biocbuild/BBS/utils/build-universal.sh compartmap_1.20.0.tar.gz /Library/Frameworks/R.framework/Resources/bin/R compartmap.buildbin-libdir StartedAt: 2024-03-04 00:35:21 -0500 (Mon, 04 Mar 2024) EndedAt: 2024-03-04 00:36:07 -0500 (Mon, 04 Mar 2024) EllapsedTime: 46.4 seconds RetCode: 0 Status: OK PackageFile: compartmap_1.20.0.tgz PackageFileSize: 3.822 MiB