Package: compEpiTools Version: 1.36.0 Command: chmod a+r compEpiTools -R && F:\biocbuild\bbs-3.18-bioc\R\bin\R.exe CMD build --keep-empty-dirs --no-resave-data compEpiTools StartedAt: 2024-04-15 17:43:44 -0400 (Mon, 15 Apr 2024) EndedAt: 2024-04-15 17:45:38 -0400 (Mon, 15 Apr 2024) EllapsedTime: 114.0 seconds RetCode: 0 Status: OK PackageFile: compEpiTools_1.36.0.tar.gz PackageFileSize: 2.164 MiB