Package: cogeqc Version: 1.6.2 Command: chmod a+r cogeqc -R && F:\biocbuild\bbs-3.18-bioc\R\bin\R.exe CMD build --keep-empty-dirs --no-resave-data cogeqc StartedAt: 2024-04-15 17:42:23 -0400 (Mon, 15 Apr 2024) EndedAt: 2024-04-15 17:43:59 -0400 (Mon, 15 Apr 2024) EllapsedTime: 96.0 seconds RetCode: 0 Status: OK PackageFile: cogeqc_1.6.2.tar.gz PackageFileSize: 2.36 MiB