Package: cogeqc Version: 1.6.2 Command: rm -rf cogeqc.buildbin-libdir && mkdir cogeqc.buildbin-libdir && F:\biocbuild\bbs-3.18-bioc\R\bin\R.exe CMD INSTALL --build --library=cogeqc.buildbin-libdir cogeqc_1.6.2.tar.gz StartedAt: 2024-04-16 06:50:12 -0400 (Tue, 16 Apr 2024) EndedAt: 2024-04-16 06:50:33 -0400 (Tue, 16 Apr 2024) EllapsedTime: 21.1 seconds RetCode: 0 Status: OK PackageFile: cogeqc_1.6.2.zip PackageFileSize: 2.424 MiB