Package: cogeqc Version: 1.6.2 Command: /Library/Frameworks/R.framework/Resources/bin/R CMD build --keep-empty-dirs --no-resave-data cogeqc StartedAt: 2024-04-15 17:49:30 -0400 (Mon, 15 Apr 2024) EndedAt: 2024-04-15 17:52:42 -0400 (Mon, 15 Apr 2024) EllapsedTime: 192.8 seconds RetCode: 0 Status: OK PackageFile: cogeqc_1.6.2.tar.gz PackageFileSize: 3.314 MiB