Package: cn.mops Version: 1.48.0 Command: /home/biocbuild/R/R-4.3.1/bin/R CMD INSTALL cn.mops StartedAt: 2023-11-01 20:23:03 -0000 (Wed, 01 Nov 2023) EndedAt: 2023-11-01 20:23:30 -0000 (Wed, 01 Nov 2023) EllapsedTime: 26.6 seconds RetCode: 0 Status: OK