Package: cn.mops Version: 1.48.0 Command: /home/biocbuild/R/R-4.3.1/bin/R CMD build --keep-empty-dirs --no-resave-data cn.mops StartedAt: 2023-11-01 23:36:16 -0000 (Wed, 01 Nov 2023) EndedAt: 2023-11-01 23:37:20 -0000 (Wed, 01 Nov 2023) EllapsedTime: 64.1 seconds RetCode: 0 Status: OK PackageFile: cn.mops_1.48.0.tar.gz PackageFileSize: 1018 KiB