Package: clusterStab Version: 1.74.0 Command: rm -rf clusterStab.buildbin-libdir && mkdir clusterStab.buildbin-libdir && /Users/biocbuild/BBS/utils/build-universal.sh clusterStab_1.74.0.tar.gz /Library/Frameworks/R.framework/Resources/bin/R clusterStab.buildbin-libdir StartedAt: 2024-03-04 00:34:41 -0500 (Mon, 04 Mar 2024) EndedAt: 2024-03-04 00:34:49 -0500 (Mon, 04 Mar 2024) EllapsedTime: 8.0 seconds RetCode: 0 Status: OK PackageFile: clusterStab_1.74.0.tgz PackageFileSize: 336.6 KiB