Package: clusterProfiler Version: 4.10.1 Command: /Library/Frameworks/R.framework/Resources/bin/R CMD INSTALL clusterProfiler StartedAt: 2024-04-15 16:10:47 -0400 (Mon, 15 Apr 2024) EndedAt: 2024-04-15 16:11:46 -0400 (Mon, 15 Apr 2024) EllapsedTime: 59.2 seconds RetCode: 0 Status: OK