Package: clusterProfiler Version: 4.10.1 Command: /Library/Frameworks/R.framework/Resources/bin/R CMD check --install=check:clusterProfiler.install-out.txt --library=/Library/Frameworks/R.framework/Resources/library --no-vignettes --timings clusterProfiler_4.10.1.tar.gz StartedAt: 2024-04-16 00:50:10 -0400 (Tue, 16 Apr 2024) EndedAt: 2024-04-16 00:58:13 -0400 (Tue, 16 Apr 2024) EllapsedTime: 483.6 seconds RetCode: 0 Status: OK CheckDir: clusterProfiler.Rcheck Warnings: 0