Package: clustComp Version: 1.30.0 Command: chmod a+r clustComp -R && F:\biocbuild\bbs-3.18-bioc\R\bin\R.exe CMD build --keep-empty-dirs --no-resave-data clustComp StartedAt: 2024-04-15 17:38:50 -0400 (Mon, 15 Apr 2024) EndedAt: 2024-04-15 17:39:54 -0400 (Mon, 15 Apr 2024) EllapsedTime: 64.8 seconds RetCode: 0 Status: OK PackageFile: clustComp_1.30.0.tar.gz PackageFileSize: 794.5 KiB