Package: clustComp Version: 1.30.0 Command: /home/biocbuild/R/R-4.3.1/bin/R CMD build --keep-empty-dirs --no-resave-data clustComp StartedAt: 2023-11-01 23:33:32 -0000 (Wed, 01 Nov 2023) EndedAt: 2023-11-01 23:34:52 -0000 (Wed, 01 Nov 2023) EllapsedTime: 79.1 seconds RetCode: 0 Status: OK PackageFile: clustComp_1.30.0.tar.gz PackageFileSize: 817.2 KiB