Package: clstutils Version: 1.50.0 Command: F:\biocbuild\bbs-3.18-bioc\R\bin\R.exe CMD INSTALL clstutils StartedAt: 2024-04-15 15:52:10 -0400 (Mon, 15 Apr 2024) EndedAt: 2024-04-15 15:52:17 -0400 (Mon, 15 Apr 2024) EllapsedTime: 7.2 seconds RetCode: 0 Status: OK