Package: clstutils Version: 1.50.0 Command: /home/biocbuild/bbs-3.18-bioc/R/bin/R CMD INSTALL clstutils StartedAt: 2024-04-15 15:22:17 -0400 (Mon, 15 Apr 2024) EndedAt: 2024-04-15 15:22:21 -0400 (Mon, 15 Apr 2024) EllapsedTime: 4.5 seconds RetCode: 0 Status: OK