Package: clstutils Version: 1.50.0 Command: /Library/Frameworks/R.framework/Resources/bin/R CMD build --keep-empty-dirs --no-resave-data clstutils StartedAt: 2024-04-15 17:43:59 -0400 (Mon, 15 Apr 2024) EndedAt: 2024-04-15 17:44:42 -0400 (Mon, 15 Apr 2024) EllapsedTime: 42.9 seconds RetCode: 0 Status: OK PackageFile: clstutils_1.50.0.tar.gz PackageFileSize: 2.694 MiB