Package: clst Version: 1.50.0 Command: rm -rf clst.buildbin-libdir && mkdir clst.buildbin-libdir && F:\biocbuild\bbs-3.18-bioc\R\bin\R.exe CMD INSTALL --build --library=clst.buildbin-libdir clst_1.50.0.tar.gz StartedAt: 2024-04-16 06:49:02 -0400 (Tue, 16 Apr 2024) EndedAt: 2024-04-16 06:49:10 -0400 (Tue, 16 Apr 2024) EllapsedTime: 8.7 seconds RetCode: 0 Status: OK PackageFile: clst_1.50.0.zip PackageFileSize: 1.553 MiB