Package: clst Version: 1.50.0 Command: /Library/Frameworks/R.framework/Resources/bin/R CMD INSTALL clst StartedAt: 2024-04-15 15:10:41 -0400 (Mon, 15 Apr 2024) EndedAt: 2024-04-15 15:11:08 -0400 (Mon, 15 Apr 2024) EllapsedTime: 27.0 seconds RetCode: 0 Status: OK