Package: cliqueMS Version: 1.16.0 Command: /home/biocbuild/bbs-3.18-bioc/R/bin/R CMD check --install=check:cliqueMS.install-out.txt --library=/home/biocbuild/bbs-3.18-bioc/R/site-library --timings cliqueMS_1.16.0.tar.gz StartedAt: 2024-03-05 21:03:53 -0500 (Tue, 05 Mar 2024) EndedAt: 2024-03-05 21:09:59 -0500 (Tue, 05 Mar 2024) EllapsedTime: 365.3 seconds RetCode: 0 Status: OK CheckDir: cliqueMS.Rcheck Warnings: 0