Package: cliqueMS Version: 1.16.0 Command: /Library/Frameworks/R.framework/Resources/bin/R CMD build --keep-empty-dirs --no-resave-data cliqueMS StartedAt: 2024-04-15 17:43:32 -0400 (Mon, 15 Apr 2024) EndedAt: 2024-04-15 17:43:34 -0400 (Mon, 15 Apr 2024) EllapsedTime: 2.3 seconds RetCode: 1 Status: ERROR PackageFile: None PackageFileSize: NA