Package: clippda Version: 1.52.0 Command: /Library/Frameworks/R.framework/Resources/bin/R CMD check --install=check:clippda.install-out.txt --library=/Library/Frameworks/R.framework/Resources/library --no-vignettes --timings clippda_1.52.0.tar.gz StartedAt: 2024-03-03 19:39:16 -0500 (Sun, 03 Mar 2024) EndedAt: 2024-03-03 19:43:15 -0500 (Sun, 03 Mar 2024) EllapsedTime: 238.5 seconds RetCode: 0 Status: OK CheckDir: clippda.Rcheck Warnings: 0