Package: clippda Version: 1.52.0 Command: /home/biocbuild/R/R-4.3.1/bin/R CMD build --keep-empty-dirs --no-resave-data clippda StartedAt: 2023-11-01 23:31:40 -0000 (Wed, 01 Nov 2023) EndedAt: 2023-11-01 23:33:26 -0000 (Wed, 01 Nov 2023) EllapsedTime: 106.1 seconds RetCode: 0 Status: OK PackageFile: clippda_1.52.0.tar.gz PackageFileSize: 1.476 MiB