Package: cleanUpdTSeq Version: 1.40.0 Command: /home/biocbuild/R/R-4.3.1/bin/R CMD check --install=check:cleanUpdTSeq.install-out.txt --library=/home/biocbuild/R/R-4.3.1/site-library --no-vignettes --timings cleanUpdTSeq_1.40.0.tar.gz StartedAt: 2023-11-02 09:18:59 -0000 (Thu, 02 Nov 2023) EndedAt: 2023-11-02 09:26:04 -0000 (Thu, 02 Nov 2023) EllapsedTime: 425.0 seconds RetCode: 1 Status: ERROR CheckDir: cleanUpdTSeq.Rcheck Warnings: NA