Package: cisPath Version: 1.42.0 Command: chmod a+r cisPath -R && F:\biocbuild\bbs-3.18-bioc\R\bin\R.exe CMD build --keep-empty-dirs --no-resave-data cisPath StartedAt: 2024-04-15 17:36:35 -0400 (Mon, 15 Apr 2024) EndedAt: 2024-04-15 17:37:10 -0400 (Mon, 15 Apr 2024) EllapsedTime: 35.3 seconds RetCode: 0 Status: OK PackageFile: cisPath_1.42.0.tar.gz PackageFileSize: 934.9 KiB