Package: cisPath Version: 1.42.0 Command: /Library/Frameworks/R.framework/Resources/bin/R CMD build --keep-empty-dirs --no-resave-data cisPath StartedAt: 2024-03-03 16:14:49 -0500 (Sun, 03 Mar 2024) EndedAt: 2024-03-03 16:15:16 -0500 (Sun, 03 Mar 2024) EllapsedTime: 27.0 seconds RetCode: 0 Status: OK PackageFile: cisPath_1.42.0.tar.gz PackageFileSize: 1.032 MiB