Package: cisPath Version: 1.42.0 Command: /home/biocbuild/R/R-4.3.1/bin/R CMD INSTALL cisPath StartedAt: 2023-11-01 20:03:39 -0000 (Wed, 01 Nov 2023) EndedAt: 2023-11-01 20:04:04 -0000 (Wed, 01 Nov 2023) EllapsedTime: 25.2 seconds RetCode: 0 Status: OK