Package: cisPath Version: 1.42.0 Command: /home/biocbuild/R/R-4.3.1/bin/R CMD build --keep-empty-dirs --no-resave-data cisPath StartedAt: 2023-11-01 23:30:13 -0000 (Wed, 01 Nov 2023) EndedAt: 2023-11-01 23:30:35 -0000 (Wed, 01 Nov 2023) EllapsedTime: 22.0 seconds RetCode: 0 Status: OK PackageFile: cisPath_1.42.0.tar.gz PackageFileSize: 1.028 MiB