Package: circRNAprofiler Version: 1.16.0 Command: /Library/Frameworks/R.framework/Resources/bin/R CMD build --keep-empty-dirs --no-resave-data circRNAprofiler StartedAt: 2024-04-15 17:41:57 -0400 (Mon, 15 Apr 2024) EndedAt: 2024-04-15 17:44:44 -0400 (Mon, 15 Apr 2024) EllapsedTime: 166.3 seconds RetCode: 0 Status: OK PackageFile: circRNAprofiler_1.16.0.tar.gz PackageFileSize: 3.716 MiB