Package: circRNAprofiler Version: 1.16.0 Command: /home/biocbuild/R/R-4.3.1/bin/R CMD build --keep-empty-dirs --no-resave-data circRNAprofiler StartedAt: 2023-11-01 23:29:52 -0000 (Wed, 01 Nov 2023) EndedAt: 2023-11-01 23:31:40 -0000 (Wed, 01 Nov 2023) EllapsedTime: 108.2 seconds RetCode: 0 Status: OK PackageFile: circRNAprofiler_1.16.0.tar.gz PackageFileSize: 3.598 MiB