Package: circRNAprofiler Version: 1.16.0 Maintainer: Simona Aufiero MaintainerEmail: simo.aufiero at gmail.com git_url: https://git.bioconductor.org/packages/circRNAprofiler git_branch: RELEASE_3_18 git_last_commit: 39fe35b git_last_commit_date: 2023-10-24 11:15:12 -0400 (Tue, 24 Oct 2023)