Package: cicero Version: 1.20.0 Command: chmod a+r cicero -R && F:\biocbuild\bbs-3.18-bioc\R\bin\R.exe CMD build --keep-empty-dirs --no-resave-data cicero StartedAt: 2024-04-15 17:35:56 -0400 (Mon, 15 Apr 2024) EndedAt: 2024-04-15 17:38:22 -0400 (Mon, 15 Apr 2024) EllapsedTime: 145.8 seconds RetCode: 0 Status: OK PackageFile: cicero_1.20.0.tar.gz PackageFileSize: 1.14 MiB