Package: cicero Version: 1.20.0 Command: /Library/Frameworks/R.framework/Resources/bin/R CMD build --keep-empty-dirs --no-resave-data cicero StartedAt: 2024-04-15 17:41:26 -0400 (Mon, 15 Apr 2024) EndedAt: 2024-04-15 17:45:20 -0400 (Mon, 15 Apr 2024) EllapsedTime: 233.9 seconds RetCode: 0 Status: OK PackageFile: cicero_1.20.0.tar.gz PackageFileSize: 1.193 MiB