Package: cicero Version: 1.20.0 Command: rm -rf cicero.buildbin-libdir && mkdir cicero.buildbin-libdir && /Users/biocbuild/BBS/utils/build-universal.sh cicero_1.20.0.tar.gz /Library/Frameworks/R.framework/Resources/bin/R cicero.buildbin-libdir StartedAt: 2024-04-16 11:16:43 -0400 (Tue, 16 Apr 2024) EndedAt: 2024-04-16 11:19:43 -0400 (Tue, 16 Apr 2024) EllapsedTime: 179.8 seconds RetCode: 0 Status: OK PackageFile: cicero_1.20.0.tgz PackageFileSize: 1.271 MiB