Package: chromswitch Version: 1.21.1 Command: /home/biocbuild/bbs-3.18-bioc/R/bin/R CMD INSTALL chromswitch StartedAt: 2023-04-20 03:28:03 -0400 (Thu, 20 Apr 2023) EndedAt: 2023-04-20 03:28:31 -0400 (Thu, 20 Apr 2023) EllapsedTime: 28.3 seconds RetCode: 0 Status: OK