git_url: https://git.bioconductor.org/packages/chromswitch git_branch: devel git_last_commit: f0d1a1a git_last_commit_date: 2023-03-27 08:19:28 -0400 (Mon, 27 Mar 2023) Package: chromswitch Version: 1.21.1 Maintainer: Selin Jessa MaintainerEmail: selinjessa at gmail.com