Package: chromstaR Version: 1.28.0 Command: rm -rf chromstaR.buildbin-libdir && mkdir chromstaR.buildbin-libdir && F:\biocbuild\bbs-3.18-bioc\R\bin\R.exe CMD INSTALL --build --library=chromstaR.buildbin-libdir chromstaR_1.28.0.tar.gz StartedAt: 2024-04-16 06:48:21 -0400 (Tue, 16 Apr 2024) EndedAt: 2024-04-16 06:49:17 -0400 (Tue, 16 Apr 2024) EllapsedTime: 55.5 seconds RetCode: 0 Status: OK PackageFile: chromstaR_1.28.0.zip PackageFileSize: 6.73 MiB