Package: chromstaR Version: 1.28.0 Command: /home/biocbuild/R/R-4.3.1/bin/R CMD INSTALL chromstaR StartedAt: 2023-11-01 20:19:54 -0000 (Wed, 01 Nov 2023) EndedAt: 2023-11-01 20:20:49 -0000 (Wed, 01 Nov 2023) EllapsedTime: 54.8 seconds RetCode: 0 Status: OK