Package: chromVAR Version: 1.24.0 Command: /Library/Frameworks/R.framework/Resources/bin/R CMD check --install=check:chromVAR.install-out.txt --library=/Library/Frameworks/R.framework/Resources/library --no-vignettes --timings chromVAR_1.24.0.tar.gz StartedAt: 2024-03-03 19:37:11 -0500 (Sun, 03 Mar 2024) EndedAt: 2024-03-03 19:44:47 -0500 (Sun, 03 Mar 2024) EllapsedTime: 456.0 seconds RetCode: 0 Status: OK CheckDir: chromVAR.Rcheck Warnings: 0