Package: chromPlot Version: 1.30.0 Command: /home/biocbuild/bbs-3.18-bioc/R/bin/R CMD check --install=check:chromPlot.install-out.txt --library=/home/biocbuild/bbs-3.18-bioc/R/site-library --timings chromPlot_1.30.0.tar.gz StartedAt: 2024-04-15 21:11:04 -0400 (Mon, 15 Apr 2024) EndedAt: 2024-04-15 21:13:41 -0400 (Mon, 15 Apr 2024) EllapsedTime: 157.7 seconds RetCode: 0 Status: OK CheckDir: chromPlot.Rcheck Warnings: 0