Package: chromPlot Version: 1.30.0 Command: /home/biocbuild/R/R-4.3.1/bin/R CMD INSTALL chromPlot StartedAt: 2023-11-01 20:25:13 -0000 (Wed, 01 Nov 2023) EndedAt: 2023-11-01 20:25:38 -0000 (Wed, 01 Nov 2023) EllapsedTime: 25.0 seconds RetCode: 0 Status: OK